BEGIN:VCALENDAR
VERSION:2.0
PRODID:-//wp-events-plugin.com//7.2.3.1//EN
TZID:America/Chicago
X-WR-TIMEZONE:America/Chicago
BEGIN:VEVENT
UID:58@awakenthenations.org
DTSTART;TZID=America/Chicago:20211106T110000
DTEND;TZID=America/Chicago:20211106T130000
DTSTAMP:20211104T185701Z
URL:https://awakenthenations.org/events/community-hope-health-w-joy-bruce/
SUMMARY:Community Hope & Health w. Joy & Bruce
DESCRIPTION:We will lead you in ways to stay in a healthy mindset during th
 e holidays\, both spiritually and physically. Plus\, we have some great re
 cipes to share.
CATEGORIES:Guest Ministry
LOCATION:Awaken the Nations Ministries International\, 209 N. Westminster D
 r.\, Nixa\, MO\, 65714\, United States
X-APPLE-STRUCTURED-LOCATION;VALUE=URI;X-ADDRESS=209 N. Westminster Dr.\, Ni
 xa\, MO\, 65714\, United States;X-APPLE-RADIUS=100;X-TITLE=Awaken the Nati
 ons Ministries International:geo:0,0
END:VEVENT
BEGIN:VTIMEZONE
TZID:America/Chicago
X-LIC-LOCATION:America/Chicago
BEGIN:DAYLIGHT
DTSTART:20210314T030000
TZOFFSETFROM:-0600
TZOFFSETTO:-0500
TZNAME:CDT
END:DAYLIGHT
END:VTIMEZONE
END:VCALENDAR